Package: goTools Version: 1.80.0 Command: /Library/Frameworks/R.framework/Resources/bin/R CMD check --install=check:goTools.install-out.txt --library=/Library/Frameworks/R.framework/Resources/library --no-vignettes --timings goTools_1.80.0.tar.gz StartedAt: 2025-02-04 04:35:55 -0500 (Tue, 04 Feb 2025) EndedAt: 2025-02-04 04:39:00 -0500 (Tue, 04 Feb 2025) EllapsedTime: 184.7 seconds RetCode: 0 Status: OK CheckDir: goTools.Rcheck Warnings: 0