Package: goTools Version: 1.80.0 Command: /Library/Frameworks/R.framework/Resources/bin/R CMD build --keep-empty-dirs --no-resave-data goTools StartedAt: 2025-01-27 19:24:27 -0500 (Mon, 27 Jan 2025) EndedAt: 2025-01-27 19:25:16 -0500 (Mon, 27 Jan 2025) EllapsedTime: 49.0 seconds RetCode: 0 Status: OK PackageFile: goTools_1.80.0.tar.gz PackageFileSize: 241.4 KiB