Package: goTools Version: 1.80.0 Command: rm -rf goTools.buildbin-libdir && mkdir goTools.buildbin-libdir && /Users/biocbuild/BBS/utils/build-universal.sh goTools_1.80.0.tar.gz /Library/Frameworks/R.framework/Resources/bin/R goTools.buildbin-libdir StartedAt: 2025-01-28 13:19:52 -0500 (Tue, 28 Jan 2025) EndedAt: 2025-01-28 13:20:44 -0500 (Tue, 28 Jan 2025) EllapsedTime: 52.5 seconds RetCode: 0 Status: OK PackageFile: goTools_1.80.0.tgz PackageFileSize: 260.6 KiB