Package: goTools Version: 1.80.0 Command: /Library/Frameworks/R.framework/Resources/bin/R CMD INSTALL goTools StartedAt: 2025-01-27 15:43:38 -0500 (Mon, 27 Jan 2025) EndedAt: 2025-01-27 15:43:52 -0500 (Mon, 27 Jan 2025) EllapsedTime: 14.6 seconds RetCode: 0 Status: OK