Package: goTools Version: 1.80.0 Command: /Library/Frameworks/R.framework/Resources/bin/R CMD check --install=check:goTools.install-out.txt --library=/Library/Frameworks/R.framework/Resources/library --no-vignettes --timings goTools_1.80.0.tar.gz StartedAt: 2025-01-28 21:12:09 -0500 (Tue, 28 Jan 2025) EndedAt: 2025-01-28 21:13:47 -0500 (Tue, 28 Jan 2025) EllapsedTime: 97.3 seconds RetCode: 0 Status: OK CheckDir: goTools.Rcheck Warnings: 0