Package: goSorensen Version: 1.8.0 Command: /home/biocbuild/R/R/bin/R CMD build --keep-empty-dirs --no-resave-data goSorensen StartedAt: 2025-01-28 00:44:12 -0000 (Tue, 28 Jan 2025) EndedAt: 2025-01-28 00:54:03 -0000 (Tue, 28 Jan 2025) EllapsedTime: 591.2 seconds RetCode: 0 Status: OK PackageFile: goSorensen_1.8.0.tar.gz PackageFileSize: 1.575 MiB