Package: goSorensen Version: 1.8.0 Command: /home/biocbuild/bbs-3.20-bioc/R/bin/R CMD INSTALL goSorensen StartedAt: 2025-01-27 16:37:30 -0500 (Mon, 27 Jan 2025) EndedAt: 2025-01-27 16:37:46 -0500 (Mon, 27 Jan 2025) EllapsedTime: 16.1 seconds RetCode: 0 Status: OK