Package: goSorensen Version: 1.8.0 Command: /Library/Frameworks/R.framework/Resources/bin/R CMD INSTALL goSorensen StartedAt: 2025-01-27 16:20:01 -0500 (Mon, 27 Jan 2025) EndedAt: 2025-01-27 16:20:35 -0500 (Mon, 27 Jan 2025) EllapsedTime: 33.4 seconds RetCode: 0 Status: OK