Package: goSorensen Version: 1.8.0 Command: /Library/Frameworks/R.framework/Resources/bin/R CMD check --install=check:goSorensen.install-out.txt --library=/Library/Frameworks/R.framework/Resources/library --no-vignettes --timings goSorensen_1.8.0.tar.gz StartedAt: 2025-01-28 04:45:03 -0500 (Tue, 28 Jan 2025) EndedAt: 2025-01-28 05:02:07 -0500 (Tue, 28 Jan 2025) EllapsedTime: 1024.0 seconds RetCode: 0 Status: OK CheckDir: goSorensen.Rcheck Warnings: 0