Package: goSorensen Version: 1.8.0 Command: /Library/Frameworks/R.framework/Resources/bin/R CMD build --keep-empty-dirs --no-resave-data goSorensen StartedAt: 2025-01-27 19:23:15 -0500 (Mon, 27 Jan 2025) EndedAt: 2025-01-27 19:39:12 -0500 (Mon, 27 Jan 2025) EllapsedTime: 956.3 seconds RetCode: 0 Status: OK PackageFile: goSorensen_1.8.0.tar.gz PackageFileSize: 1.501 MiB