Package: goSorensen Version: 1.8.0 Command: /home/biocbuild/R/R/bin/R CMD build --keep-empty-dirs --no-resave-data goSorensen StartedAt: 2024-11-20 01:07:47 -0000 (Wed, 20 Nov 2024) EndedAt: 2024-11-20 01:19:54 -0000 (Wed, 20 Nov 2024) EllapsedTime: 727.0 seconds RetCode: 0 Status: OK PackageFile: goSorensen_1.8.0.tar.gz PackageFileSize: 1.576 MiB