Package: goSorensen Version: 1.8.0 Command: /Library/Frameworks/R.framework/Resources/bin/R CMD build --keep-empty-dirs --no-resave-data goSorensen StartedAt: 2025-01-28 00:47:52 -0500 (Tue, 28 Jan 2025) EndedAt: 2025-01-28 00:56:57 -0500 (Tue, 28 Jan 2025) EllapsedTime: 544.6 seconds RetCode: 0 Status: OK PackageFile: goSorensen_1.8.0.tar.gz PackageFileSize: 1.5 MiB