Package: goSorensen Version: 1.8.0 Command: rm -rf goSorensen.buildbin-libdir && mkdir goSorensen.buildbin-libdir && /Users/biocbuild/BBS/utils/build-universal.sh goSorensen_1.8.0.tar.gz /Library/Frameworks/R.framework/Resources/bin/R goSorensen.buildbin-libdir StartedAt: 2025-04-02 14:36:50 -0400 (Wed, 02 Apr 2025) EndedAt: 2025-04-02 14:37:10 -0400 (Wed, 02 Apr 2025) EllapsedTime: 19.9 seconds RetCode: 0 Status: OK PackageFile: goSorensen_1.8.0.tgz PackageFileSize: 1.679 MiB