Package: goProfiles Version: 1.68.0 Command: /home/biocbuild/R/R/bin/R CMD INSTALL goProfiles StartedAt: 2025-03-31 20:32:17 -0000 (Mon, 31 Mar 2025) EndedAt: 2025-03-31 20:32:35 -0000 (Mon, 31 Mar 2025) EllapsedTime: 18.5 seconds RetCode: 0 Status: OK