Package: goProfiles Version: 1.68.0 Command: /home/biocbuild/R/R/bin/R CMD check --install=check:goProfiles.install-out.txt --library=/home/biocbuild/R/R/site-library --no-vignettes --timings goProfiles_1.68.0.tar.gz StartedAt: 2025-04-01 07:06:00 -0000 (Tue, 01 Apr 2025) EndedAt: 2025-04-01 07:09:03 -0000 (Tue, 01 Apr 2025) EllapsedTime: 183.1 seconds RetCode: 0 Status: OK CheckDir: goProfiles.Rcheck Warnings: 0