Package: goProfiles Version: 1.68.0 Command: /home/biocbuild/R/R/bin/R CMD build --keep-empty-dirs --no-resave-data goProfiles StartedAt: 2025-03-31 23:55:04 -0000 (Mon, 31 Mar 2025) EndedAt: 2025-03-31 23:55:53 -0000 (Mon, 31 Mar 2025) EllapsedTime: 49.0 seconds RetCode: 0 Status: OK PackageFile: goProfiles_1.68.0.tar.gz PackageFileSize: 285.1 KiB