Package: gmoviz Version: 1.18.0 Command: /Library/Frameworks/R.framework/Resources/bin/R CMD check --install=check:gmoviz.install-out.txt --library=/Library/Frameworks/R.framework/Resources/library --no-vignettes --timings gmoviz_1.18.0.tar.gz StartedAt: 2025-04-01 20:54:17 -0400 (Tue, 01 Apr 2025) EndedAt: 2025-04-01 20:59:11 -0400 (Tue, 01 Apr 2025) EllapsedTime: 294.0 seconds RetCode: 0 Status: OK CheckDir: gmoviz.Rcheck Warnings: 0