Package: gmapR Version: 1.48.0 Command: /home/biocbuild/bbs-3.20-bioc/R/bin/R CMD check --install=check:gmapR.install-out.txt --library=/home/biocbuild/bbs-3.20-bioc/R/site-library --timings gmapR_1.48.0.tar.gz StartedAt: 2025-03-31 22:38:23 -0400 (Mon, 31 Mar 2025) EndedAt: 2025-03-31 22:45:41 -0400 (Mon, 31 Mar 2025) EllapsedTime: 438.4 seconds RetCode: 0 Status: WARNINGS CheckDir: gmapR.Rcheck Warnings: 7