Package: gmapR Version: 1.48.0 Command: /Library/Frameworks/R.framework/Resources/bin/R CMD INSTALL gmapR StartedAt: 2025-01-27 15:43:54 -0500 (Mon, 27 Jan 2025) EndedAt: 2025-01-27 15:57:13 -0500 (Mon, 27 Jan 2025) EllapsedTime: 799.3 seconds RetCode: 0 Status: OK