Package: gmapR Version: 1.48.0 Command: /Library/Frameworks/R.framework/Resources/bin/R CMD INSTALL gmapR StartedAt: 2024-11-08 15:26:45 -0500 (Fri, 08 Nov 2024) EndedAt: 2024-11-08 15:28:53 -0500 (Fri, 08 Nov 2024) EllapsedTime: 128.4 seconds RetCode: 0 Status: OK