Package: gmapR Version: 1.48.0 Command: rm -rf gmapR.buildbin-libdir && mkdir gmapR.buildbin-libdir && /Users/biocbuild/BBS/utils/build-universal.sh gmapR_1.48.0.tar.gz /Library/Frameworks/R.framework/Resources/bin/R gmapR.buildbin-libdir StartedAt: 2025-04-02 14:35:15 -0400 (Wed, 02 Apr 2025) EndedAt: 2025-04-02 14:43:24 -0400 (Wed, 02 Apr 2025) EllapsedTime: 489.5 seconds RetCode: 0 Status: OK PackageFile: gmapR_1.48.0.tgz PackageFileSize: 22.24 MiB