Package: globalSeq Version: 1.34.0 Command: /home/biocbuild/R/R/bin/R CMD build --keep-empty-dirs --no-resave-data globalSeq StartedAt: 2025-03-31 23:50:50 -0000 (Mon, 31 Mar 2025) EndedAt: 2025-03-31 23:51:01 -0000 (Mon, 31 Mar 2025) EllapsedTime: 11.0 seconds RetCode: 0 Status: OK PackageFile: globalSeq_1.34.0.tar.gz PackageFileSize: 755.1 KiB