Package: globalSeq Version: 1.34.0 Command: F:\biocbuild\bbs-3.20-bioc\R\bin\R.exe CMD INSTALL globalSeq StartedAt: 2025-01-27 15:26:54 -0500 (Mon, 27 Jan 2025) EndedAt: 2025-01-27 15:27:11 -0500 (Mon, 27 Jan 2025) EllapsedTime: 17.1 seconds RetCode: 0 Status: OK