Package: glmSparseNet Version: 1.24.0 Command: /home/biocbuild/R/R/bin/R CMD INSTALL glmSparseNet StartedAt: 2025-02-13 21:09:17 -0000 (Thu, 13 Feb 2025) EndedAt: 2025-02-13 21:09:21 -0000 (Thu, 13 Feb 2025) EllapsedTime: 4.1 seconds RetCode: 0 Status: OK