Package: glmSparseNet Version: 1.24.0 Command: rm -rf glmSparseNet.buildbin-libdir && mkdir glmSparseNet.buildbin-libdir && F:\biocbuild\bbs-3.20-bioc\R\bin\R.exe CMD INSTALL --build --library=glmSparseNet.buildbin-libdir glmSparseNet_1.24.0.tar.gz StartedAt: 2025-02-04 08:37:24 -0500 (Tue, 04 Feb 2025) EndedAt: 2025-02-04 08:38:51 -0500 (Tue, 04 Feb 2025) EllapsedTime: 87.5 seconds RetCode: 0 Status: OK PackageFile: glmSparseNet_1.24.0.zip PackageFileSize: 2.087 MiB