Package: glmSparseNet Version: 1.24.0 Command: /home/biocbuild/bbs-3.20-bioc/R/bin/R CMD check --install=check:glmSparseNet.install-out.txt --library=/home/biocbuild/bbs-3.20-bioc/R/site-library --timings glmSparseNet_1.24.0.tar.gz StartedAt: 2025-02-10 22:42:52 -0500 (Mon, 10 Feb 2025) EndedAt: 2025-02-10 22:49:24 -0500 (Mon, 10 Feb 2025) EllapsedTime: 391.4 seconds RetCode: 0 Status: OK CheckDir: glmSparseNet.Rcheck Warnings: 0