Package: glmSparseNet Version: 1.24.0 Command: /Library/Frameworks/R.framework/Resources/bin/R CMD check --install=check:glmSparseNet.install-out.txt --library=/Library/Frameworks/R.framework/Resources/library --no-vignettes --timings glmSparseNet_1.24.0.tar.gz StartedAt: 2025-02-11 04:14:02 -0500 (Tue, 11 Feb 2025) EndedAt: 2025-02-11 04:17:54 -0500 (Tue, 11 Feb 2025) EllapsedTime: 232.6 seconds RetCode: 0 Status: OK CheckDir: glmSparseNet.Rcheck Warnings: 0