Package: glmSparseNet Version: 1.24.0 Command: /home/biocbuild/R/R/bin/R CMD check --install=check:glmSparseNet.install-out.txt --library=/home/biocbuild/R/R/site-library --no-vignettes --timings glmSparseNet_1.24.0.tar.gz StartedAt: 2024-11-19 08:28:20 -0000 (Tue, 19 Nov 2024) EndedAt: 2024-11-19 08:31:04 -0000 (Tue, 19 Nov 2024) EllapsedTime: 163.3 seconds RetCode: 0 Status: OK CheckDir: glmSparseNet.Rcheck Warnings: 0