Package: glmSparseNet Version: 1.24.0 Command: /home/biocbuild/R/R/bin/R CMD build --keep-empty-dirs --no-resave-data glmSparseNet StartedAt: 2024-11-20 01:03:33 -0000 (Wed, 20 Nov 2024) EndedAt: 2024-11-20 01:43:33 -0000 (Wed, 20 Nov 2024) EllapsedTime: 2400.1 seconds RetCode: None Status: TIMEOUT PackageFile: None PackageFileSize: NA