Package: glmSparseNet Version: 1.24.0 Command: /Library/Frameworks/R.framework/Resources/bin/R CMD INSTALL glmSparseNet StartedAt: 2025-02-10 18:18:35 -0500 (Mon, 10 Feb 2025) EndedAt: 2025-02-10 18:18:39 -0500 (Mon, 10 Feb 2025) EllapsedTime: 4.7 seconds RetCode: 0 Status: OK