Package: glmSparseNet Version: 1.24.0 Command: rm -rf glmSparseNet.buildbin-libdir && mkdir glmSparseNet.buildbin-libdir && /Users/biocbuild/BBS/utils/build-universal.sh glmSparseNet_1.24.0.tar.gz /Library/Frameworks/R.framework/Resources/bin/R glmSparseNet.buildbin-libdir StartedAt: 2025-02-05 16:04:35 -0500 (Wed, 05 Feb 2025) EndedAt: 2025-02-05 16:04:42 -0500 (Wed, 05 Feb 2025) EllapsedTime: 6.9 seconds RetCode: 0 Status: OK PackageFile: glmSparseNet_1.24.0.tgz PackageFileSize: 2.905 MiB