Package: glmGamPoi Version: 1.18.0 Command: /Library/Frameworks/R.framework/Resources/bin/R CMD check --install=check:glmGamPoi.install-out.txt --library=/Library/Frameworks/R.framework/Resources/library --no-vignettes --timings glmGamPoi_1.18.0.tar.gz StartedAt: 2025-04-01 03:46:54 -0400 (Tue, 01 Apr 2025) EndedAt: 2025-04-01 03:53:47 -0400 (Tue, 01 Apr 2025) EllapsedTime: 413.1 seconds RetCode: 0 Status: OK CheckDir: glmGamPoi.Rcheck Warnings: 0