Package: girafe Version: 1.58.0 Command: /home/biocbuild/R/R/bin/R CMD build --keep-empty-dirs --no-resave-data girafe StartedAt: 2025-01-28 00:38:26 -0000 (Tue, 28 Jan 2025) EndedAt: 2025-01-28 00:39:43 -0000 (Tue, 28 Jan 2025) EllapsedTime: 77.0 seconds RetCode: 0 Status: OK PackageFile: girafe_1.58.0.tar.gz PackageFileSize: 1.522 MiB