Package: girafe Version: 1.58.0 Command: chmod a+r girafe -R && F:\biocbuild\bbs-3.20-bioc\R\bin\R.exe CMD build --keep-empty-dirs --no-resave-data girafe StartedAt: 2025-03-31 19:16:53 -0400 (Mon, 31 Mar 2025) EndedAt: 2025-03-31 19:18:25 -0400 (Mon, 31 Mar 2025) EllapsedTime: 92.4 seconds RetCode: 0 Status: OK PackageFile: girafe_1.58.0.tar.gz PackageFileSize: 1.262 MiB