Package: girafe Version: 1.58.0 Command: rm -rf girafe.buildbin-libdir && mkdir girafe.buildbin-libdir && F:\biocbuild\bbs-3.20-bioc\R\bin\R.exe CMD INSTALL --build --library=girafe.buildbin-libdir girafe_1.58.0.tar.gz StartedAt: 2025-04-01 08:18:48 -0400 (Tue, 01 Apr 2025) EndedAt: 2025-04-01 08:20:14 -0400 (Tue, 01 Apr 2025) EllapsedTime: 86.6 seconds RetCode: 0 Status: OK PackageFile: girafe_1.58.0.zip PackageFileSize: 2.055 MiB