Package: girafe Version: 1.58.0 Command: /Library/Frameworks/R.framework/Resources/bin/R CMD check --install=check:girafe.install-out.txt --library=/Library/Frameworks/R.framework/Resources/library --no-vignettes --timings girafe_1.58.0.tar.gz StartedAt: 2025-04-01 03:46:46 -0400 (Tue, 01 Apr 2025) EndedAt: 2025-04-01 03:55:40 -0400 (Tue, 01 Apr 2025) EllapsedTime: 534.9 seconds RetCode: 0 Status: OK CheckDir: girafe.Rcheck Warnings: 0