Package: ginmappeR Version: 1.2.3 Command: rm -rf ginmappeR.buildbin-libdir && mkdir ginmappeR.buildbin-libdir && /Users/biocbuild/BBS/utils/build-universal.sh ginmappeR_1.2.3.tar.gz /Library/Frameworks/R.framework/Resources/bin/R ginmappeR.buildbin-libdir StartedAt: 2025-04-02 14:34:21 -0400 (Wed, 02 Apr 2025) EndedAt: 2025-04-02 14:34:43 -0400 (Wed, 02 Apr 2025) EllapsedTime: 21.4 seconds RetCode: 0 Status: OK PackageFile: ginmappeR_1.2.3.tgz PackageFileSize: 674.3 KiB