Package: ggtreeExtra Version: 1.16.0 Command: F:\biocbuild\bbs-3.20-bioc\R\bin\R.exe CMD INSTALL ggtreeExtra StartedAt: 2025-02-10 16:05:24 -0500 (Mon, 10 Feb 2025) EndedAt: 2025-02-10 16:05:47 -0500 (Mon, 10 Feb 2025) EllapsedTime: 22.1 seconds RetCode: 0 Status: OK