Package: ggtreeExtra Version: 1.16.0 Command: rm -rf ggtreeExtra.buildbin-libdir && mkdir ggtreeExtra.buildbin-libdir && F:\biocbuild\bbs-3.20-bioc\R\bin\R.exe CMD INSTALL --build --library=ggtreeExtra.buildbin-libdir ggtreeExtra_1.16.0.tar.gz StartedAt: 2025-02-11 08:34:30 -0500 (Tue, 11 Feb 2025) EndedAt: 2025-02-11 08:34:58 -0500 (Tue, 11 Feb 2025) EllapsedTime: 28.5 seconds RetCode: 0 Status: OK PackageFile: ggtreeExtra_1.16.0.zip PackageFileSize: 333.6 KiB