Package: ggtreeExtra Version: 1.16.0 Command: /Library/Frameworks/R.framework/Resources/bin/R CMD check --install=check:ggtreeExtra.install-out.txt --library=/Library/Frameworks/R.framework/Resources/library --no-vignettes --timings ggtreeExtra_1.16.0.tar.gz StartedAt: 2025-02-11 04:12:24 -0500 (Tue, 11 Feb 2025) EndedAt: 2025-02-11 04:14:18 -0500 (Tue, 11 Feb 2025) EllapsedTime: 114.0 seconds RetCode: 0 Status: OK CheckDir: ggtreeExtra.Rcheck Warnings: 0