Package: ggtreeExtra Version: 1.16.0 Command: /Library/Frameworks/R.framework/Resources/bin/R CMD build --keep-empty-dirs --no-resave-data ggtreeExtra StartedAt: 2025-02-10 19:13:18 -0500 (Mon, 10 Feb 2025) EndedAt: 2025-02-10 19:14:01 -0500 (Mon, 10 Feb 2025) EllapsedTime: 42.2 seconds RetCode: 0 Status: OK PackageFile: ggtreeExtra_1.16.0.tar.gz PackageFileSize: 932.8 KiB