Package: ggtreeDendro Version: 1.8.0 Command: /home/biocbuild/bbs-3.20-bioc/R/bin/R CMD build --keep-empty-dirs --no-resave-data --md5 ggtreeDendro StartedAt: 2025-01-27 18:22:13 -0500 (Mon, 27 Jan 2025) EndedAt: 2025-01-27 18:22:25 -0500 (Mon, 27 Jan 2025) EllapsedTime: 12.0 seconds RetCode: 0 Status: OK PackageFile: ggtreeDendro_1.8.0.tar.gz PackageFileSize: 429.4 KiB