Package: ggtreeDendro Version: 1.8.0 Command: /home/biocbuild/R/R/bin/R CMD build --keep-empty-dirs --no-resave-data ggtreeDendro StartedAt: 2024-11-20 01:02:15 -0000 (Wed, 20 Nov 2024) EndedAt: 2024-11-20 01:02:39 -0000 (Wed, 20 Nov 2024) EllapsedTime: 24.0 seconds RetCode: 0 Status: OK PackageFile: ggtreeDendro_1.8.0.tar.gz PackageFileSize: 182.6 KiB