Package: ggtreeDendro Version: 1.8.0 Command: /Library/Frameworks/R.framework/Resources/bin/R CMD check --install=check:ggtreeDendro.install-out.txt --library=/Library/Frameworks/R.framework/Resources/library --no-vignettes --timings ggtreeDendro_1.8.0.tar.gz StartedAt: 2025-04-01 20:44:48 -0400 (Tue, 01 Apr 2025) EndedAt: 2025-04-01 20:45:37 -0400 (Tue, 01 Apr 2025) EllapsedTime: 49.2 seconds RetCode: 0 Status: WARNINGS CheckDir: ggtreeDendro.Rcheck Warnings: 1