Package: ggtree Version: 3.14.0 Command: /home/biocbuild/R/R/bin/R CMD INSTALL ggtree StartedAt: 2025-01-27 21:29:08 -0000 (Mon, 27 Jan 2025) EndedAt: 2025-01-27 21:29:21 -0000 (Mon, 27 Jan 2025) EllapsedTime: 13.5 seconds RetCode: 0 Status: OK