Package: ggtree Version: 3.14.0 Command: rm -rf ggtree.buildbin-libdir && mkdir ggtree.buildbin-libdir && F:\biocbuild\bbs-3.20-bioc\R\bin\R.exe CMD INSTALL --build --library=ggtree.buildbin-libdir ggtree_3.14.0.tar.gz StartedAt: 2025-02-04 08:36:47 -0500 (Tue, 04 Feb 2025) EndedAt: 2025-02-04 08:38:21 -0500 (Tue, 04 Feb 2025) EllapsedTime: 94.2 seconds RetCode: 0 Status: OK PackageFile: ggtree_3.14.0.zip PackageFileSize: 898.5 KiB