Package: ggtree Version: 3.14.0 Command: /home/biocbuild/bbs-3.20-bioc/R/bin/R CMD INSTALL ggtree StartedAt: 2025-01-27 16:19:08 -0500 (Mon, 27 Jan 2025) EndedAt: 2025-01-27 16:19:18 -0500 (Mon, 27 Jan 2025) EllapsedTime: 10.4 seconds RetCode: 0 Status: OK