Package: ggtree Version: 3.14.0 Command: /home/biocbuild/bbs-3.20-bioc/R/bin/R CMD build --keep-empty-dirs --no-resave-data --md5 ggtree StartedAt: 2025-01-27 18:22:11 -0500 (Mon, 27 Jan 2025) EndedAt: 2025-01-27 18:22:23 -0500 (Mon, 27 Jan 2025) EllapsedTime: 12.0 seconds RetCode: 0 Status: OK PackageFile: ggtree_3.14.0.tar.gz PackageFileSize: 358.4 KiB