Package: ggtree Version: 3.14.0 Command: /Library/Frameworks/R.framework/Resources/bin/R CMD INSTALL ggtree StartedAt: 2025-01-27 15:48:47 -0500 (Mon, 27 Jan 2025) EndedAt: 2025-01-27 15:49:14 -0500 (Mon, 27 Jan 2025) EllapsedTime: 26.6 seconds RetCode: 0 Status: OK