Package: ggtree Version: 3.14.0 Command: /Library/Frameworks/R.framework/Resources/bin/R CMD INSTALL ggtree StartedAt: 2025-03-31 16:20:38 -0400 (Mon, 31 Mar 2025) EndedAt: 2025-03-31 16:20:50 -0400 (Mon, 31 Mar 2025) EllapsedTime: 11.7 seconds RetCode: 0 Status: OK